BEGIN:VCALENDAR
VERSION:2.0
PRODID:-//WXO - ECPv6.15.11//NONSGML v1.0//EN
CALSCALE:GREGORIAN
METHOD:PUBLISH
X-ORIGINAL-URL:https://worldxo.org
X-WR-CALDESC:Events for WXO
REFRESH-INTERVAL;VALUE=DURATION:PT1H
X-Robots-Tag:noindex
X-PUBLISHED-TTL:PT1H
BEGIN:VTIMEZONE
TZID:Europe/London
BEGIN:DAYLIGHT
TZOFFSETFROM:+0000
TZOFFSETTO:+0100
TZNAME:BST
DTSTART:20210328T010000
END:DAYLIGHT
BEGIN:STANDARD
TZOFFSETFROM:+0100
TZOFFSETTO:+0000
TZNAME:GMT
DTSTART:20211031T010000
END:STANDARD
BEGIN:DAYLIGHT
TZOFFSETFROM:+0000
TZOFFSETTO:+0100
TZNAME:BST
DTSTART:20220327T010000
END:DAYLIGHT
BEGIN:STANDARD
TZOFFSETFROM:+0100
TZOFFSETTO:+0000
TZNAME:GMT
DTSTART:20221030T010000
END:STANDARD
BEGIN:DAYLIGHT
TZOFFSETFROM:+0000
TZOFFSETTO:+0100
TZNAME:BST
DTSTART:20230326T010000
END:DAYLIGHT
BEGIN:STANDARD
TZOFFSETFROM:+0100
TZOFFSETTO:+0000
TZNAME:GMT
DTSTART:20231029T010000
END:STANDARD
END:VTIMEZONE
BEGIN:VEVENT
DTSTART;TZID=Europe/London:20220608T175500
DTEND;TZID=Europe/London:20220608T192500
DTSTAMP:20260423T232453
CREATED:20220526T133430Z
LAST-MODIFIED:20220527T141734Z
UID:16112-1654710900-1654716300@worldxo.org
SUMMARY:Campfires 63 & 64: Curb Experience Enthusiasm
DESCRIPTION:Overly perfectionist or passionate clients can have us all quaking in our boots. Not to mention that sometimes our own passion can be a blocker. How many times have you struggled to let creative projects go\, or broken your own boundaries when it comes to fees\, deadlines and scope?But less is more. Completion is better than perfection. And killing your darlings isn’t just for novelists.So when passion threatens to get in the way\, how can we manage our clients’ – and our own! – expectations to build engaging experiences that we can be proud of?Themed experience expert Cynthia Vergon may have the answer. \nVergon has worked with some of the most prestigious marketing and design firms in the themed experience industry. She was recently commissioned by experience design firm and lead creative designer Jora Vision to work on Quake\, a new immersive experience at Lisbon Earthquake Centre that allows audiences to see\, feel and understand the Lisbon Earthquake of 1755 using a blend of narrative and technology.Based on her experiences\, Vergon will tell you how to: \n\nWork with passionate experts to find the balance between historical “fact” and storytelling\nNavigate working with passionate clients\, multiple changes and shifting deadlines\nManage your own passions to gracefully let go of projects that feel like your baby\n\nTo get in the zone\, ask yourself: \n\nHave you ever felt that your passion (or your client’s passion) was getting in the way of a project?\nIs there a moment when a project no longer belongs to you? How do you know when that point is reached?\nIs perfection possible? If not\, how can you explain to your client that at some point\, completion is better than perfection?\n\n*NB: This event is for WXO Members ONLY. To attend Campfires\, click here to apply to join the WXO.*
URL:https://worldxo.org/event/campfires-63-64-cynthia-vergon/
LOCATION:Zoom
ATTACH;FMTTYPE=image/jpeg:https://worldxo.org/wp-content/uploads/2022/05/Campfires-63-64-Cynthia-Vergon-2.jpg
END:VEVENT
END:VCALENDAR