BEGIN:VCALENDAR
VERSION:2.0
PRODID:-//WXO - ECPv6.15.11//NONSGML v1.0//EN
CALSCALE:GREGORIAN
METHOD:PUBLISH
X-ORIGINAL-URL:https://worldxo.org
X-WR-CALDESC:Events for WXO
REFRESH-INTERVAL;VALUE=DURATION:PT1H
X-Robots-Tag:noindex
X-PUBLISHED-TTL:PT1H
BEGIN:VTIMEZONE
TZID:Europe/London
BEGIN:DAYLIGHT
TZOFFSETFROM:+0000
TZOFFSETTO:+0100
TZNAME:BST
DTSTART:20210328T010000
END:DAYLIGHT
BEGIN:STANDARD
TZOFFSETFROM:+0100
TZOFFSETTO:+0000
TZNAME:GMT
DTSTART:20211031T010000
END:STANDARD
BEGIN:DAYLIGHT
TZOFFSETFROM:+0000
TZOFFSETTO:+0100
TZNAME:BST
DTSTART:20220327T010000
END:DAYLIGHT
BEGIN:STANDARD
TZOFFSETFROM:+0100
TZOFFSETTO:+0000
TZNAME:GMT
DTSTART:20221030T010000
END:STANDARD
BEGIN:DAYLIGHT
TZOFFSETFROM:+0000
TZOFFSETTO:+0100
TZNAME:BST
DTSTART:20230326T010000
END:DAYLIGHT
BEGIN:STANDARD
TZOFFSETFROM:+0100
TZOFFSETTO:+0000
TZNAME:GMT
DTSTART:20231029T010000
END:STANDARD
END:VTIMEZONE
BEGIN:VEVENT
DTSTART;VALUE=DATE:20221012
DTEND;VALUE=DATE:20221016
DTSTAMP:20260423T164955
CREATED:20220520T114411Z
LAST-MODIFIED:20220520T114411Z
UID:15976-1665532800-1665878399@worldxo.org
SUMMARY:7 Experiences Summit
DESCRIPTION:This October experience researchers and professionals will gather at Brigham Young University in Provo\, Utah\, USA from 12-15 October 2022 for the first in-person 7 Experiences Summit. The summit is sponsored by the Experience Research Society\, whose vision is “understanding life\, promoting well-being and increasing societal impact through research into the fundamentals of experience.”\nIt will draw a diverse audience of experience experts from around the globe from four days of keynotes\, research presentations\, and workshops\, and a variety of exciting experiences ranging from canyoneering to taco crawls. \nThe highlight of the summit is sure to be hearing from seven different keynote speakers who exemplify experience expertise and a diversity experience related topics and industries: \n\nGary David – Professor of Sociology at Bentley University\, Host of Experience by Design Podcast\nJim Gilmore – Co-Author of The Experience Economy\, Co-Founder of Strategic Horizons\nKaren Melton – Associate Professor of Child and Family Studies at Baylor University\nSonia Rhodes – Founder of The Experience Lab\nAga Szóstek – Author of The Umami Strategy: Stand Out by Mixing Business with Experience Design and Co-Host of the Catching the Next Wave Podcast\nJames Wallman\, CEO of the World Experience Organization\, Author of Stuffocation and Time and How to Spend It\nHaian Xue\, Assistant Professor of Industrial Design Engineering at TU Delft.\n\nAfter three days of engaging content and networking the summit will end with a choose your own adventure selection of curated experiences. Attendees will be able to select from a list of Saturday experiences that are included in the price of admission\, including canyoneering\, fly fishing\, mountain biking\, hiking\, cultural tours\, taco tours\, and attending an American collegiate football game.
URL:https://worldxo.org/event/7-experiences-summit-2022/
LOCATION:Brigham Young University\, Provo\, Utah\, USA\, Brigham Young University\, Provo\, UT\, United States
ATTACH;FMTTYPE=image/jpeg:https://worldxo.org/wp-content/uploads/2022/05/7x-Summit-Header.jpg
END:VEVENT
END:VCALENDAR