BEGIN:VCALENDAR
VERSION:2.0
PRODID:-//WXO - ECPv6.15.11//NONSGML v1.0//EN
CALSCALE:GREGORIAN
METHOD:PUBLISH
X-WR-CALNAME:WXO
X-ORIGINAL-URL:https://worldxo.org
X-WR-CALDESC:Events for WXO
REFRESH-INTERVAL;VALUE=DURATION:PT1H
X-Robots-Tag:noindex
X-PUBLISHED-TTL:PT1H
BEGIN:VTIMEZONE
TZID:Europe/London
BEGIN:DAYLIGHT
TZOFFSETFROM:+0000
TZOFFSETTO:+0100
TZNAME:BST
DTSTART:20240331T010000
END:DAYLIGHT
BEGIN:STANDARD
TZOFFSETFROM:+0100
TZOFFSETTO:+0000
TZNAME:GMT
DTSTART:20241027T010000
END:STANDARD
BEGIN:DAYLIGHT
TZOFFSETFROM:+0000
TZOFFSETTO:+0100
TZNAME:BST
DTSTART:20250330T010000
END:DAYLIGHT
BEGIN:STANDARD
TZOFFSETFROM:+0100
TZOFFSETTO:+0000
TZNAME:GMT
DTSTART:20251026T010000
END:STANDARD
BEGIN:DAYLIGHT
TZOFFSETFROM:+0000
TZOFFSETTO:+0100
TZNAME:BST
DTSTART:20260329T010000
END:DAYLIGHT
BEGIN:STANDARD
TZOFFSETFROM:+0100
TZOFFSETTO:+0000
TZNAME:GMT
DTSTART:20261025T010000
END:STANDARD
END:VTIMEZONE
BEGIN:VEVENT
DTSTART;TZID=Europe/London:20251217T095500
DTEND;TZID=Europe/London:20251217T233000
DTSTAMP:20260424T123948
CREATED:20251117T141240Z
LAST-MODIFIED:20251117T141626Z
UID:46944-1765965300-1766014200@worldxo.org
SUMMARY:R.E.V.E.A.L. – Why Value-Engineering Is a Creative Superpower
DESCRIPTION:When a £285K immersive experience became an £850 school-library prototype\, experience designer Skye Von discovered that constraint can sharpen creativity rather than limit it. \nFrom that experiment emerged The R.E.V.E.A.L. Framework – a creative pressure simulator that transforms limitation into clarity and confidence. \nIn this Campfire\, experience designer and artist Skye explores how reducing scale and resources can expose blind spots\, validate emotional logic\, and amplify what connects most deeply with audiences. \n“The R.E.V.E.A.L. Pressure Simulator isn’t about tearing down what you have\,” says Skye. “It’s about proving what’s strong – and revealing what’s still waiting to emerge.” \nValue-engineering isn’t about reduction – it’s about revelation. \nWhat you’ll learn: \n\nHow to reframe value-engineering as a creative process of revelation\, not reduction\nWhat happens when you take an idea down to 1% of the budget and 25% of the space\nHow stripped-down prototyping becomes a pressure test that reveals the core mechanics and emotional spine of an experience\nWhy designing with less can validate your strongest ideas and sharpen their impact\nShow how your event supports your organisation’s goals without turning it into a sales pitch\n\nWho this Campfire is for: \n\nExperience designers and creative directors\nBrand strategists\, marketers\, and producers\nStorytellers and educators exploring participatory design\nAnyone using constraint\, creativity\, or story to move people through experience\\n\n\nAbout Skye: \nSkye Von is an experience designer and artist with over 15 years’ experience shaping immersive environments\, brand storytelling\, and educational experiences that invite people to play\, connect\, and transform – from art exhibitions exploring human connection and belonging to family experiences that inspire curiosity and collaboration\, and brand activations that spark wonder and shared meaning. \nHer work – spanning collaborations with Paramount\, Google\, and Bulgari\, as well as organisations like the Malala Fund and UNHCR – blends storytelling\, design\, and often emerging technology to create spaces where emotion meets innovation. \n  \n\n\nHow to watch this Campfire: \n\nLink to sign up for this Campfire (WXO members only)\nTo join the WXO\, please head to our Application page\nThe WXO is a global home for the leaders\, shapers and doers in the Experience Economy\nAs a member\, you’ll get live access to Campfires like this one plus unlock an on demand library of over 100 Campfire recordings\n\n \n\nTimings: \nCampfire #1 is suitable for those in the APAC region or Europe\, but everyone is welcome! Here’s when we kick off in your time zone: \n\nLondon: 9:55 – 11:25 (BST)\nParis: 10:55 – 12:25 (CEST)\nDubai: 12:55 – 14:25 (GST)\nMumbai: 14:25 – 15:55 (IST)\nShanghai / Singapore: 16:55 – 18:25 (CST/SGT)\nTokyo: 17:55 – 19:25 (JST)\nSydney: 18:55 – 20:25 (AEST)\nAuckland: 20:55 – 22:25 (NZST)
URL:https://worldxo.org/event/r-e-v-e-a-l-why-value-engineering-is-a-creative-superpower/
LOCATION:Zoom
CATEGORIES:WXO Campfire
ATTACH;FMTTYPE=image/png:https://worldxo.org/wp-content/uploads/2025/11/17-Dec-Early.png
END:VEVENT
END:VCALENDAR