BEGIN:VCALENDAR
VERSION:2.0
PRODID:-//WXO - ECPv6.15.11//NONSGML v1.0//EN
CALSCALE:GREGORIAN
METHOD:PUBLISH
X-ORIGINAL-URL:https://worldxo.org
X-WR-CALDESC:Events for WXO
REFRESH-INTERVAL;VALUE=DURATION:PT1H
X-Robots-Tag:noindex
X-PUBLISHED-TTL:PT1H
BEGIN:VTIMEZONE
TZID:Europe/London
BEGIN:DAYLIGHT
TZOFFSETFROM:+0000
TZOFFSETTO:+0100
TZNAME:BST
DTSTART:20210328T010000
END:DAYLIGHT
BEGIN:STANDARD
TZOFFSETFROM:+0100
TZOFFSETTO:+0000
TZNAME:GMT
DTSTART:20211031T010000
END:STANDARD
BEGIN:DAYLIGHT
TZOFFSETFROM:+0000
TZOFFSETTO:+0100
TZNAME:BST
DTSTART:20220327T010000
END:DAYLIGHT
BEGIN:STANDARD
TZOFFSETFROM:+0100
TZOFFSETTO:+0000
TZNAME:GMT
DTSTART:20221030T010000
END:STANDARD
BEGIN:DAYLIGHT
TZOFFSETFROM:+0000
TZOFFSETTO:+0100
TZNAME:BST
DTSTART:20230326T010000
END:DAYLIGHT
BEGIN:STANDARD
TZOFFSETFROM:+0100
TZOFFSETTO:+0000
TZNAME:GMT
DTSTART:20231029T010000
END:STANDARD
END:VTIMEZONE
BEGIN:VEVENT
DTSTART;TZID=Europe/London:20220421T173000
DTEND;TZID=Europe/London:20220421T183000
DTSTAMP:20260423T091350
CREATED:20220420T141318Z
LAST-MODIFIED:20220420T141417Z
UID:15240-1650562200-1650565800@worldxo.org
SUMMARY:Women in Experience (WiX): Session 1
DESCRIPTION:Founded by WXO Co-Founders Nasya Kamrat and Sheena Patel and Founding Member Kevi Louise Johnson\, WiX is open to all female-identifying practitioners in the experience sector. \nThis first virtual gathering will explore: \n\nCurrent practices or constructs in the world of work that are not best serving women’s ability to contribute to the Experience Economy\nChallenges or roadblocks to professional development and opportunities\nHow we effectively ‘work’ and how those attributes can contribute to and inform the Experience Economy\n\nClick here to register your interest in attending.
URL:https://worldxo.org/event/women-in-experience-wix-session-1/
LOCATION:Zoom
ATTACH;FMTTYPE=image/jpeg:https://worldxo.org/wp-content/uploads/2022/03/mirage_10.jpeg
END:VEVENT
END:VCALENDAR