BEGIN:VCALENDAR
VERSION:2.0
PRODID:-//WXO - ECPv6.15.11//NONSGML v1.0//EN
CALSCALE:GREGORIAN
METHOD:PUBLISH
X-ORIGINAL-URL:https://worldxo.org
X-WR-CALDESC:Events for WXO
REFRESH-INTERVAL;VALUE=DURATION:PT1H
X-Robots-Tag:noindex
X-PUBLISHED-TTL:PT1H
BEGIN:VTIMEZONE
TZID:Europe/London
BEGIN:DAYLIGHT
TZOFFSETFROM:+0000
TZOFFSETTO:+0100
TZNAME:BST
DTSTART:20210328T010000
END:DAYLIGHT
BEGIN:STANDARD
TZOFFSETFROM:+0100
TZOFFSETTO:+0000
TZNAME:GMT
DTSTART:20211031T010000
END:STANDARD
BEGIN:DAYLIGHT
TZOFFSETFROM:+0000
TZOFFSETTO:+0100
TZNAME:BST
DTSTART:20220327T010000
END:DAYLIGHT
BEGIN:STANDARD
TZOFFSETFROM:+0100
TZOFFSETTO:+0000
TZNAME:GMT
DTSTART:20221030T010000
END:STANDARD
BEGIN:DAYLIGHT
TZOFFSETFROM:+0000
TZOFFSETTO:+0100
TZNAME:BST
DTSTART:20230326T010000
END:DAYLIGHT
BEGIN:STANDARD
TZOFFSETFROM:+0100
TZOFFSETTO:+0000
TZNAME:GMT
DTSTART:20231029T010000
END:STANDARD
END:VTIMEZONE
BEGIN:VEVENT
DTSTART;TZID=Europe/London:20220518T095500
DTEND;TZID=Europe/London:20220518T115500
DTSTAMP:20260423T073638
CREATED:20220503T151850Z
LAST-MODIFIED:20220513T154921Z
UID:15440-1652867700-1652874900@worldxo.org
SUMMARY:Campfire 59: The Expectation Effect
DESCRIPTION:Your last chance to catch award-winning science writer David Robson’s brilliant talk on The Startling Ways That Expectations Shape Experience\, now at an APAC-friendly time. \nIt turns out\, all sorts of expectations – what we think about ageing\, what we think about the food we eat\, if we think something will be easy or hard – have a significant impact on outcomes. Far more powerfully than most of us realise. \nWe think there’s many insights that experience designers can borrow from Robson’s research to craft customers’ / guests’ / visitors’ / employees’ / audience’s expectations and create better experiences. \nExpect to hear radical\, evidence-based discoveries on how expectation can have profound impacts on experience – and\, together with the experience pioneers at the Campfire\, figure out how to apply these in the experiences you create. \n*NB: This event is for WXO Members ONLY. To attend Campfires\, click here to apply to join the WXO.*
URL:https://worldxo.org/event/campfire-59-david-robson/
LOCATION:Zoom
CATEGORIES:WXO Campfire
ATTACH;FMTTYPE=image/jpeg:https://worldxo.org/wp-content/uploads/2022/05/Campfire-59-David-Robson.jpg
END:VEVENT
END:VCALENDAR